BEGIN:VCALENDAR
VERSION:2.0
PRODID:-//Flint. Daily. - ECPv6.15.20//NONSGML v1.0//EN
CALSCALE:GREGORIAN
METHOD:PUBLISH
X-WR-CALNAME:Flint. Daily.
X-ORIGINAL-URL:https://flintdaily.news
X-WR-CALDESC:Events for Flint. Daily.
REFRESH-INTERVAL;VALUE=DURATION:PT1H
X-Robots-Tag:noindex
X-PUBLISHED-TTL:PT1H
BEGIN:VTIMEZONE
TZID:America/New_York
BEGIN:DAYLIGHT
TZOFFSETFROM:-0500
TZOFFSETTO:-0400
TZNAME:EDT
DTSTART:20250309T070000
END:DAYLIGHT
BEGIN:STANDARD
TZOFFSETFROM:-0400
TZOFFSETTO:-0500
TZNAME:EST
DTSTART:20251102T060000
END:STANDARD
BEGIN:DAYLIGHT
TZOFFSETFROM:-0500
TZOFFSETTO:-0400
TZNAME:EDT
DTSTART:20260308T070000
END:DAYLIGHT
BEGIN:STANDARD
TZOFFSETFROM:-0400
TZOFFSETTO:-0500
TZNAME:EST
DTSTART:20261101T060000
END:STANDARD
BEGIN:DAYLIGHT
TZOFFSETFROM:-0500
TZOFFSETTO:-0400
TZNAME:EDT
DTSTART:20270314T070000
END:DAYLIGHT
BEGIN:STANDARD
TZOFFSETFROM:-0400
TZOFFSETTO:-0500
TZNAME:EST
DTSTART:20271107T060000
END:STANDARD
BEGIN:DAYLIGHT
TZOFFSETFROM:-0500
TZOFFSETTO:-0400
TZNAME:EDT
DTSTART:20280312T070000
END:DAYLIGHT
BEGIN:STANDARD
TZOFFSETFROM:-0400
TZOFFSETTO:-0500
TZNAME:EST
DTSTART:20281105T060000
END:STANDARD
END:VTIMEZONE
BEGIN:VEVENT
DTSTART;TZID=America/New_York:20261231T163000
DTEND;TZID=America/New_York:20261231T173000
DTSTAMP:20260422T070124
CREATED:20260407T133511Z
LAST-MODIFIED:20260407T133511Z
UID:10005296-1798734600-1798738200@flintdaily.news
SUMMARY:Warm Meals at Franklin Avenue Mission
DESCRIPTION:Our Diner is open every Tuesday and Thursday for a warm\, home-cooked meal! We invite you to come a little early at 3 p.m. to enjoy coffee and friendly conversation with neighbors\, volunteers\, and staff. Thank you to our dedicated volunteers who make these weekly meals possible—we truly appreciate all that you do! \n\n\n	Related
URL:https://flintdaily.news/event/warm-meals-at-franklin-avenue-mission-2/2026-12-31/
LOCATION:Franklin Avenue Mission\, 2210 N. Franklin Avenue\, Flint\, MI\, 48506
END:VEVENT
BEGIN:VEVENT
DTSTART;TZID=America/New_York:20270105T163000
DTEND;TZID=America/New_York:20270105T173000
DTSTAMP:20260422T070124
CREATED:20260407T133443Z
LAST-MODIFIED:20260407T133443Z
UID:10005115-1799166600-1799170200@flintdaily.news
SUMMARY:Warm Meals at Franklin Avenue Mission
DESCRIPTION:Our Diner is open every Tuesday and Thursday for a warm\, home-cooked meal! We invite you to come a little early at 3 p.m. to enjoy coffee and friendly conversation with neighbors\, volunteers\, and staff. Thank you to our dedicated volunteers who make these weekly meals possible—we truly appreciate all that you do! \n\n\n	Related
URL:https://flintdaily.news/event/warm-meals-at-franklin-avenue-mission/2027-01-05/
LOCATION:Franklin Avenue Mission\, 2210 N. Franklin Avenue\, Flint\, MI\, 48506
END:VEVENT
BEGIN:VEVENT
DTSTART;TZID=America/New_York:20270107T163000
DTEND;TZID=America/New_York:20270107T173000
DTSTAMP:20260422T070124
CREATED:20260407T133511Z
LAST-MODIFIED:20260407T133511Z
UID:10005297-1799339400-1799343000@flintdaily.news
SUMMARY:Warm Meals at Franklin Avenue Mission
DESCRIPTION:Our Diner is open every Tuesday and Thursday for a warm\, home-cooked meal! We invite you to come a little early at 3 p.m. to enjoy coffee and friendly conversation with neighbors\, volunteers\, and staff. Thank you to our dedicated volunteers who make these weekly meals possible—we truly appreciate all that you do! \n\n\n	Related
URL:https://flintdaily.news/event/warm-meals-at-franklin-avenue-mission-2/2027-01-07/
LOCATION:Franklin Avenue Mission\, 2210 N. Franklin Avenue\, Flint\, MI\, 48506
END:VEVENT
BEGIN:VEVENT
DTSTART;TZID=America/New_York:20270112T163000
DTEND;TZID=America/New_York:20270112T173000
DTSTAMP:20260422T070124
CREATED:20260407T133443Z
LAST-MODIFIED:20260407T133443Z
UID:10005116-1799771400-1799775000@flintdaily.news
SUMMARY:Warm Meals at Franklin Avenue Mission
DESCRIPTION:Our Diner is open every Tuesday and Thursday for a warm\, home-cooked meal! We invite you to come a little early at 3 p.m. to enjoy coffee and friendly conversation with neighbors\, volunteers\, and staff. Thank you to our dedicated volunteers who make these weekly meals possible—we truly appreciate all that you do! \n\n\n	Related
URL:https://flintdaily.news/event/warm-meals-at-franklin-avenue-mission/2027-01-12/
LOCATION:Franklin Avenue Mission\, 2210 N. Franklin Avenue\, Flint\, MI\, 48506
END:VEVENT
BEGIN:VEVENT
DTSTART;TZID=America/New_York:20270114T163000
DTEND;TZID=America/New_York:20270114T173000
DTSTAMP:20260422T070124
CREATED:20260407T133511Z
LAST-MODIFIED:20260407T133511Z
UID:10005298-1799944200-1799947800@flintdaily.news
SUMMARY:Warm Meals at Franklin Avenue Mission
DESCRIPTION:Our Diner is open every Tuesday and Thursday for a warm\, home-cooked meal! We invite you to come a little early at 3 p.m. to enjoy coffee and friendly conversation with neighbors\, volunteers\, and staff. Thank you to our dedicated volunteers who make these weekly meals possible—we truly appreciate all that you do! \n\n\n	Related
URL:https://flintdaily.news/event/warm-meals-at-franklin-avenue-mission-2/2027-01-14/
LOCATION:Franklin Avenue Mission\, 2210 N. Franklin Avenue\, Flint\, MI\, 48506
END:VEVENT
BEGIN:VEVENT
DTSTART;TZID=America/New_York:20270119T163000
DTEND;TZID=America/New_York:20270119T173000
DTSTAMP:20260422T070124
CREATED:20260407T133443Z
LAST-MODIFIED:20260407T133443Z
UID:10005117-1800376200-1800379800@flintdaily.news
SUMMARY:Warm Meals at Franklin Avenue Mission
DESCRIPTION:Our Diner is open every Tuesday and Thursday for a warm\, home-cooked meal! We invite you to come a little early at 3 p.m. to enjoy coffee and friendly conversation with neighbors\, volunteers\, and staff. Thank you to our dedicated volunteers who make these weekly meals possible—we truly appreciate all that you do! \n\n\n	Related
URL:https://flintdaily.news/event/warm-meals-at-franklin-avenue-mission/2027-01-19/
LOCATION:Franklin Avenue Mission\, 2210 N. Franklin Avenue\, Flint\, MI\, 48506
END:VEVENT
BEGIN:VEVENT
DTSTART;TZID=America/New_York:20270121T163000
DTEND;TZID=America/New_York:20270121T173000
DTSTAMP:20260422T070124
CREATED:20260407T133511Z
LAST-MODIFIED:20260407T133511Z
UID:10005299-1800549000-1800552600@flintdaily.news
SUMMARY:Warm Meals at Franklin Avenue Mission
DESCRIPTION:Our Diner is open every Tuesday and Thursday for a warm\, home-cooked meal! We invite you to come a little early at 3 p.m. to enjoy coffee and friendly conversation with neighbors\, volunteers\, and staff. Thank you to our dedicated volunteers who make these weekly meals possible—we truly appreciate all that you do! \n\n\n	Related
URL:https://flintdaily.news/event/warm-meals-at-franklin-avenue-mission-2/2027-01-21/
LOCATION:Franklin Avenue Mission\, 2210 N. Franklin Avenue\, Flint\, MI\, 48506
END:VEVENT
BEGIN:VEVENT
DTSTART;TZID=America/New_York:20270126T163000
DTEND;TZID=America/New_York:20270126T173000
DTSTAMP:20260422T070124
CREATED:20260407T133443Z
LAST-MODIFIED:20260407T133443Z
UID:10005118-1800981000-1800984600@flintdaily.news
SUMMARY:Warm Meals at Franklin Avenue Mission
DESCRIPTION:Our Diner is open every Tuesday and Thursday for a warm\, home-cooked meal! We invite you to come a little early at 3 p.m. to enjoy coffee and friendly conversation with neighbors\, volunteers\, and staff. Thank you to our dedicated volunteers who make these weekly meals possible—we truly appreciate all that you do! \n\n\n	Related
URL:https://flintdaily.news/event/warm-meals-at-franklin-avenue-mission/2027-01-26/
LOCATION:Franklin Avenue Mission\, 2210 N. Franklin Avenue\, Flint\, MI\, 48506
END:VEVENT
BEGIN:VEVENT
DTSTART;TZID=America/New_York:20270128T163000
DTEND;TZID=America/New_York:20270128T173000
DTSTAMP:20260422T070124
CREATED:20260407T133511Z
LAST-MODIFIED:20260407T133511Z
UID:10005300-1801153800-1801157400@flintdaily.news
SUMMARY:Warm Meals at Franklin Avenue Mission
DESCRIPTION:Our Diner is open every Tuesday and Thursday for a warm\, home-cooked meal! We invite you to come a little early at 3 p.m. to enjoy coffee and friendly conversation with neighbors\, volunteers\, and staff. Thank you to our dedicated volunteers who make these weekly meals possible—we truly appreciate all that you do! \n\n\n	Related
URL:https://flintdaily.news/event/warm-meals-at-franklin-avenue-mission-2/2027-01-28/
LOCATION:Franklin Avenue Mission\, 2210 N. Franklin Avenue\, Flint\, MI\, 48506
END:VEVENT
BEGIN:VEVENT
DTSTART;TZID=America/New_York:20270202T163000
DTEND;TZID=America/New_York:20270202T173000
DTSTAMP:20260422T070124
CREATED:20260407T133443Z
LAST-MODIFIED:20260407T133443Z
UID:10005119-1801585800-1801589400@flintdaily.news
SUMMARY:Warm Meals at Franklin Avenue Mission
DESCRIPTION:Our Diner is open every Tuesday and Thursday for a warm\, home-cooked meal! We invite you to come a little early at 3 p.m. to enjoy coffee and friendly conversation with neighbors\, volunteers\, and staff. Thank you to our dedicated volunteers who make these weekly meals possible—we truly appreciate all that you do! \n\n\n	Related
URL:https://flintdaily.news/event/warm-meals-at-franklin-avenue-mission/2027-02-02/
LOCATION:Franklin Avenue Mission\, 2210 N. Franklin Avenue\, Flint\, MI\, 48506
END:VEVENT
BEGIN:VEVENT
DTSTART;TZID=America/New_York:20270204T163000
DTEND;TZID=America/New_York:20270204T173000
DTSTAMP:20260422T070124
CREATED:20260407T133511Z
LAST-MODIFIED:20260407T133511Z
UID:10005301-1801758600-1801762200@flintdaily.news
SUMMARY:Warm Meals at Franklin Avenue Mission
DESCRIPTION:Our Diner is open every Tuesday and Thursday for a warm\, home-cooked meal! We invite you to come a little early at 3 p.m. to enjoy coffee and friendly conversation with neighbors\, volunteers\, and staff. Thank you to our dedicated volunteers who make these weekly meals possible—we truly appreciate all that you do! \n\n\n	Related
URL:https://flintdaily.news/event/warm-meals-at-franklin-avenue-mission-2/2027-02-04/
LOCATION:Franklin Avenue Mission\, 2210 N. Franklin Avenue\, Flint\, MI\, 48506
END:VEVENT
BEGIN:VEVENT
DTSTART;TZID=America/New_York:20270209T163000
DTEND;TZID=America/New_York:20270209T173000
DTSTAMP:20260422T070124
CREATED:20260407T133443Z
LAST-MODIFIED:20260407T133443Z
UID:10005120-1802190600-1802194200@flintdaily.news
SUMMARY:Warm Meals at Franklin Avenue Mission
DESCRIPTION:Our Diner is open every Tuesday and Thursday for a warm\, home-cooked meal! We invite you to come a little early at 3 p.m. to enjoy coffee and friendly conversation with neighbors\, volunteers\, and staff. Thank you to our dedicated volunteers who make these weekly meals possible—we truly appreciate all that you do! \n\n\n	Related
URL:https://flintdaily.news/event/warm-meals-at-franklin-avenue-mission/2027-02-09/
LOCATION:Franklin Avenue Mission\, 2210 N. Franklin Avenue\, Flint\, MI\, 48506
END:VEVENT
BEGIN:VEVENT
DTSTART;TZID=America/New_York:20270211T163000
DTEND;TZID=America/New_York:20270211T173000
DTSTAMP:20260422T070124
CREATED:20260407T133511Z
LAST-MODIFIED:20260407T133511Z
UID:10005302-1802363400-1802367000@flintdaily.news
SUMMARY:Warm Meals at Franklin Avenue Mission
DESCRIPTION:Our Diner is open every Tuesday and Thursday for a warm\, home-cooked meal! We invite you to come a little early at 3 p.m. to enjoy coffee and friendly conversation with neighbors\, volunteers\, and staff. Thank you to our dedicated volunteers who make these weekly meals possible—we truly appreciate all that you do! \n\n\n	Related
URL:https://flintdaily.news/event/warm-meals-at-franklin-avenue-mission-2/2027-02-11/
LOCATION:Franklin Avenue Mission\, 2210 N. Franklin Avenue\, Flint\, MI\, 48506
END:VEVENT
BEGIN:VEVENT
DTSTART;TZID=America/New_York:20270216T163000
DTEND;TZID=America/New_York:20270216T173000
DTSTAMP:20260422T070124
CREATED:20260407T133443Z
LAST-MODIFIED:20260407T133443Z
UID:10005121-1802795400-1802799000@flintdaily.news
SUMMARY:Warm Meals at Franklin Avenue Mission
DESCRIPTION:Our Diner is open every Tuesday and Thursday for a warm\, home-cooked meal! We invite you to come a little early at 3 p.m. to enjoy coffee and friendly conversation with neighbors\, volunteers\, and staff. Thank you to our dedicated volunteers who make these weekly meals possible—we truly appreciate all that you do! \n\n\n	Related
URL:https://flintdaily.news/event/warm-meals-at-franklin-avenue-mission/2027-02-16/
LOCATION:Franklin Avenue Mission\, 2210 N. Franklin Avenue\, Flint\, MI\, 48506
END:VEVENT
BEGIN:VEVENT
DTSTART;TZID=America/New_York:20270218T163000
DTEND;TZID=America/New_York:20270218T173000
DTSTAMP:20260422T070124
CREATED:20260407T133511Z
LAST-MODIFIED:20260407T133511Z
UID:10005303-1802968200-1802971800@flintdaily.news
SUMMARY:Warm Meals at Franklin Avenue Mission
DESCRIPTION:Our Diner is open every Tuesday and Thursday for a warm\, home-cooked meal! We invite you to come a little early at 3 p.m. to enjoy coffee and friendly conversation with neighbors\, volunteers\, and staff. Thank you to our dedicated volunteers who make these weekly meals possible—we truly appreciate all that you do! \n\n\n	Related
URL:https://flintdaily.news/event/warm-meals-at-franklin-avenue-mission-2/2027-02-18/
LOCATION:Franklin Avenue Mission\, 2210 N. Franklin Avenue\, Flint\, MI\, 48506
END:VEVENT
BEGIN:VEVENT
DTSTART;TZID=America/New_York:20270223T163000
DTEND;TZID=America/New_York:20270223T173000
DTSTAMP:20260422T070124
CREATED:20260407T133443Z
LAST-MODIFIED:20260407T133443Z
UID:10005122-1803400200-1803403800@flintdaily.news
SUMMARY:Warm Meals at Franklin Avenue Mission
DESCRIPTION:Our Diner is open every Tuesday and Thursday for a warm\, home-cooked meal! We invite you to come a little early at 3 p.m. to enjoy coffee and friendly conversation with neighbors\, volunteers\, and staff. Thank you to our dedicated volunteers who make these weekly meals possible—we truly appreciate all that you do! \n\n\n	Related
URL:https://flintdaily.news/event/warm-meals-at-franklin-avenue-mission/2027-02-23/
LOCATION:Franklin Avenue Mission\, 2210 N. Franklin Avenue\, Flint\, MI\, 48506
END:VEVENT
BEGIN:VEVENT
DTSTART;TZID=America/New_York:20270225T163000
DTEND;TZID=America/New_York:20270225T173000
DTSTAMP:20260422T070124
CREATED:20260407T133511Z
LAST-MODIFIED:20260407T133511Z
UID:10005304-1803573000-1803576600@flintdaily.news
SUMMARY:Warm Meals at Franklin Avenue Mission
DESCRIPTION:Our Diner is open every Tuesday and Thursday for a warm\, home-cooked meal! We invite you to come a little early at 3 p.m. to enjoy coffee and friendly conversation with neighbors\, volunteers\, and staff. Thank you to our dedicated volunteers who make these weekly meals possible—we truly appreciate all that you do! \n\n\n	Related
URL:https://flintdaily.news/event/warm-meals-at-franklin-avenue-mission-2/2027-02-25/
LOCATION:Franklin Avenue Mission\, 2210 N. Franklin Avenue\, Flint\, MI\, 48506
END:VEVENT
BEGIN:VEVENT
DTSTART;TZID=America/New_York:20270302T163000
DTEND;TZID=America/New_York:20270302T173000
DTSTAMP:20260422T070124
CREATED:20260407T133443Z
LAST-MODIFIED:20260407T133443Z
UID:10005123-1804005000-1804008600@flintdaily.news
SUMMARY:Warm Meals at Franklin Avenue Mission
DESCRIPTION:Our Diner is open every Tuesday and Thursday for a warm\, home-cooked meal! We invite you to come a little early at 3 p.m. to enjoy coffee and friendly conversation with neighbors\, volunteers\, and staff. Thank you to our dedicated volunteers who make these weekly meals possible—we truly appreciate all that you do! \n\n\n	Related
URL:https://flintdaily.news/event/warm-meals-at-franklin-avenue-mission/2027-03-02/
LOCATION:Franklin Avenue Mission\, 2210 N. Franklin Avenue\, Flint\, MI\, 48506
END:VEVENT
BEGIN:VEVENT
DTSTART;TZID=America/New_York:20270304T163000
DTEND;TZID=America/New_York:20270304T173000
DTSTAMP:20260422T070124
CREATED:20260407T133511Z
LAST-MODIFIED:20260407T133511Z
UID:10005305-1804177800-1804181400@flintdaily.news
SUMMARY:Warm Meals at Franklin Avenue Mission
DESCRIPTION:Our Diner is open every Tuesday and Thursday for a warm\, home-cooked meal! We invite you to come a little early at 3 p.m. to enjoy coffee and friendly conversation with neighbors\, volunteers\, and staff. Thank you to our dedicated volunteers who make these weekly meals possible—we truly appreciate all that you do! \n\n\n	Related
URL:https://flintdaily.news/event/warm-meals-at-franklin-avenue-mission-2/2027-03-04/
LOCATION:Franklin Avenue Mission\, 2210 N. Franklin Avenue\, Flint\, MI\, 48506
END:VEVENT
BEGIN:VEVENT
DTSTART;TZID=America/New_York:20270309T163000
DTEND;TZID=America/New_York:20270309T173000
DTSTAMP:20260422T070124
CREATED:20260407T133443Z
LAST-MODIFIED:20260407T133443Z
UID:10005124-1804609800-1804613400@flintdaily.news
SUMMARY:Warm Meals at Franklin Avenue Mission
DESCRIPTION:Our Diner is open every Tuesday and Thursday for a warm\, home-cooked meal! We invite you to come a little early at 3 p.m. to enjoy coffee and friendly conversation with neighbors\, volunteers\, and staff. Thank you to our dedicated volunteers who make these weekly meals possible—we truly appreciate all that you do! \n\n\n	Related
URL:https://flintdaily.news/event/warm-meals-at-franklin-avenue-mission/2027-03-09/
LOCATION:Franklin Avenue Mission\, 2210 N. Franklin Avenue\, Flint\, MI\, 48506
END:VEVENT
BEGIN:VEVENT
DTSTART;TZID=America/New_York:20270311T163000
DTEND;TZID=America/New_York:20270311T173000
DTSTAMP:20260422T070124
CREATED:20260407T133511Z
LAST-MODIFIED:20260407T133511Z
UID:10005306-1804782600-1804786200@flintdaily.news
SUMMARY:Warm Meals at Franklin Avenue Mission
DESCRIPTION:Our Diner is open every Tuesday and Thursday for a warm\, home-cooked meal! We invite you to come a little early at 3 p.m. to enjoy coffee and friendly conversation with neighbors\, volunteers\, and staff. Thank you to our dedicated volunteers who make these weekly meals possible—we truly appreciate all that you do! \n\n\n	Related
URL:https://flintdaily.news/event/warm-meals-at-franklin-avenue-mission-2/2027-03-11/
LOCATION:Franklin Avenue Mission\, 2210 N. Franklin Avenue\, Flint\, MI\, 48506
END:VEVENT
BEGIN:VEVENT
DTSTART;TZID=America/New_York:20270316T163000
DTEND;TZID=America/New_York:20270316T173000
DTSTAMP:20260422T070124
CREATED:20260407T133443Z
LAST-MODIFIED:20260407T133443Z
UID:10005125-1805214600-1805218200@flintdaily.news
SUMMARY:Warm Meals at Franklin Avenue Mission
DESCRIPTION:Our Diner is open every Tuesday and Thursday for a warm\, home-cooked meal! We invite you to come a little early at 3 p.m. to enjoy coffee and friendly conversation with neighbors\, volunteers\, and staff. Thank you to our dedicated volunteers who make these weekly meals possible—we truly appreciate all that you do! \n\n\n	Related
URL:https://flintdaily.news/event/warm-meals-at-franklin-avenue-mission/2027-03-16/
LOCATION:Franklin Avenue Mission\, 2210 N. Franklin Avenue\, Flint\, MI\, 48506
END:VEVENT
BEGIN:VEVENT
DTSTART;TZID=America/New_York:20270318T163000
DTEND;TZID=America/New_York:20270318T173000
DTSTAMP:20260422T070124
CREATED:20260407T133511Z
LAST-MODIFIED:20260407T133511Z
UID:10005307-1805387400-1805391000@flintdaily.news
SUMMARY:Warm Meals at Franklin Avenue Mission
DESCRIPTION:Our Diner is open every Tuesday and Thursday for a warm\, home-cooked meal! We invite you to come a little early at 3 p.m. to enjoy coffee and friendly conversation with neighbors\, volunteers\, and staff. Thank you to our dedicated volunteers who make these weekly meals possible—we truly appreciate all that you do! \n\n\n	Related
URL:https://flintdaily.news/event/warm-meals-at-franklin-avenue-mission-2/2027-03-18/
LOCATION:Franklin Avenue Mission\, 2210 N. Franklin Avenue\, Flint\, MI\, 48506
END:VEVENT
BEGIN:VEVENT
DTSTART;TZID=America/New_York:20270323T163000
DTEND;TZID=America/New_York:20270323T173000
DTSTAMP:20260422T070124
CREATED:20260407T133443Z
LAST-MODIFIED:20260407T133443Z
UID:10005126-1805819400-1805823000@flintdaily.news
SUMMARY:Warm Meals at Franklin Avenue Mission
DESCRIPTION:Our Diner is open every Tuesday and Thursday for a warm\, home-cooked meal! We invite you to come a little early at 3 p.m. to enjoy coffee and friendly conversation with neighbors\, volunteers\, and staff. Thank you to our dedicated volunteers who make these weekly meals possible—we truly appreciate all that you do! \n\n\n	Related
URL:https://flintdaily.news/event/warm-meals-at-franklin-avenue-mission/2027-03-23/
LOCATION:Franklin Avenue Mission\, 2210 N. Franklin Avenue\, Flint\, MI\, 48506
END:VEVENT
BEGIN:VEVENT
DTSTART;TZID=America/New_York:20270325T163000
DTEND;TZID=America/New_York:20270325T173000
DTSTAMP:20260422T070124
CREATED:20260407T133511Z
LAST-MODIFIED:20260407T133511Z
UID:10005308-1805992200-1805995800@flintdaily.news
SUMMARY:Warm Meals at Franklin Avenue Mission
DESCRIPTION:Our Diner is open every Tuesday and Thursday for a warm\, home-cooked meal! We invite you to come a little early at 3 p.m. to enjoy coffee and friendly conversation with neighbors\, volunteers\, and staff. Thank you to our dedicated volunteers who make these weekly meals possible—we truly appreciate all that you do! \n\n\n	Related
URL:https://flintdaily.news/event/warm-meals-at-franklin-avenue-mission-2/2027-03-25/
LOCATION:Franklin Avenue Mission\, 2210 N. Franklin Avenue\, Flint\, MI\, 48506
END:VEVENT
BEGIN:VEVENT
DTSTART;TZID=America/New_York:20270330T163000
DTEND;TZID=America/New_York:20270330T173000
DTSTAMP:20260422T070124
CREATED:20260407T133443Z
LAST-MODIFIED:20260407T133443Z
UID:10005127-1806424200-1806427800@flintdaily.news
SUMMARY:Warm Meals at Franklin Avenue Mission
DESCRIPTION:Our Diner is open every Tuesday and Thursday for a warm\, home-cooked meal! We invite you to come a little early at 3 p.m. to enjoy coffee and friendly conversation with neighbors\, volunteers\, and staff. Thank you to our dedicated volunteers who make these weekly meals possible—we truly appreciate all that you do! \n\n\n	Related
URL:https://flintdaily.news/event/warm-meals-at-franklin-avenue-mission/2027-03-30/
LOCATION:Franklin Avenue Mission\, 2210 N. Franklin Avenue\, Flint\, MI\, 48506
END:VEVENT
BEGIN:VEVENT
DTSTART;TZID=America/New_York:20270401T163000
DTEND;TZID=America/New_York:20270401T173000
DTSTAMP:20260422T070124
CREATED:20260407T133511Z
LAST-MODIFIED:20260407T133511Z
UID:10005309-1806597000-1806600600@flintdaily.news
SUMMARY:Warm Meals at Franklin Avenue Mission
DESCRIPTION:Our Diner is open every Tuesday and Thursday for a warm\, home-cooked meal! We invite you to come a little early at 3 p.m. to enjoy coffee and friendly conversation with neighbors\, volunteers\, and staff. Thank you to our dedicated volunteers who make these weekly meals possible—we truly appreciate all that you do! \n\n\n	Related
URL:https://flintdaily.news/event/warm-meals-at-franklin-avenue-mission-2/2027-04-01/
LOCATION:Franklin Avenue Mission\, 2210 N. Franklin Avenue\, Flint\, MI\, 48506
END:VEVENT
BEGIN:VEVENT
DTSTART;TZID=America/New_York:20270406T163000
DTEND;TZID=America/New_York:20270406T173000
DTSTAMP:20260422T070124
CREATED:20260407T133443Z
LAST-MODIFIED:20260407T133443Z
UID:10005128-1807029000-1807032600@flintdaily.news
SUMMARY:Warm Meals at Franklin Avenue Mission
DESCRIPTION:Our Diner is open every Tuesday and Thursday for a warm\, home-cooked meal! We invite you to come a little early at 3 p.m. to enjoy coffee and friendly conversation with neighbors\, volunteers\, and staff. Thank you to our dedicated volunteers who make these weekly meals possible—we truly appreciate all that you do! \n\n\n	Related
URL:https://flintdaily.news/event/warm-meals-at-franklin-avenue-mission/2027-04-06/
LOCATION:Franklin Avenue Mission\, 2210 N. Franklin Avenue\, Flint\, MI\, 48506
END:VEVENT
BEGIN:VEVENT
DTSTART;TZID=America/New_York:20270408T163000
DTEND;TZID=America/New_York:20270408T173000
DTSTAMP:20260422T070124
CREATED:20260407T133511Z
LAST-MODIFIED:20260407T133511Z
UID:10005310-1807201800-1807205400@flintdaily.news
SUMMARY:Warm Meals at Franklin Avenue Mission
DESCRIPTION:Our Diner is open every Tuesday and Thursday for a warm\, home-cooked meal! We invite you to come a little early at 3 p.m. to enjoy coffee and friendly conversation with neighbors\, volunteers\, and staff. Thank you to our dedicated volunteers who make these weekly meals possible—we truly appreciate all that you do! \n\n\n	Related
URL:https://flintdaily.news/event/warm-meals-at-franklin-avenue-mission-2/2027-04-08/
LOCATION:Franklin Avenue Mission\, 2210 N. Franklin Avenue\, Flint\, MI\, 48506
END:VEVENT
BEGIN:VEVENT
DTSTART;TZID=America/New_York:20270413T163000
DTEND;TZID=America/New_York:20270413T173000
DTSTAMP:20260422T070124
CREATED:20260407T133443Z
LAST-MODIFIED:20260407T133443Z
UID:10005129-1807633800-1807637400@flintdaily.news
SUMMARY:Warm Meals at Franklin Avenue Mission
DESCRIPTION:Our Diner is open every Tuesday and Thursday for a warm\, home-cooked meal! We invite you to come a little early at 3 p.m. to enjoy coffee and friendly conversation with neighbors\, volunteers\, and staff. Thank you to our dedicated volunteers who make these weekly meals possible—we truly appreciate all that you do! \n\n\n	Related
URL:https://flintdaily.news/event/warm-meals-at-franklin-avenue-mission/2027-04-13/
LOCATION:Franklin Avenue Mission\, 2210 N. Franklin Avenue\, Flint\, MI\, 48506
END:VEVENT
END:VCALENDAR